BEGIN:VCALENDAR
VERSION:2.0
PRODID:-//Bella Vista Restaurant - ECPv6.15.18//NONSGML v1.0//EN
CALSCALE:GREGORIAN
METHOD:PUBLISH
X-WR-CALNAME:Bella Vista Restaurant
X-ORIGINAL-URL:https://www.bellavistacortebella.com
X-WR-CALDESC:Events for Bella Vista Restaurant
REFRESH-INTERVAL;VALUE=DURATION:PT1H
X-Robots-Tag:noindex
X-PUBLISHED-TTL:PT1H
BEGIN:VTIMEZONE
TZID:UTC
BEGIN:STANDARD
TZOFFSETFROM:+0000
TZOFFSETTO:+0000
TZNAME:UTC
DTSTART:20220101T000000
END:STANDARD
END:VTIMEZONE
BEGIN:VEVENT
DTSTART;TZID=UTC:20231218T080000
DTEND;TZID=UTC:20231218T170000
DTSTAMP:20260420T010801
CREATED:20231219T042100Z
LAST-MODIFIED:20231219T042100Z
UID:10000001-1702886400-1702918800@www.bellavistacortebella.com
SUMMARY:Monday Night Live
DESCRIPTION:
URL:https://www.bellavistacortebella.com/event/monday-night-live/
END:VEVENT
END:VCALENDAR